BEGIN:VCALENDAR
VERSION:2.0
PRODID:-//Winkelcentrum Leyweg - ECPv6.15.16//NONSGML v1.0//EN
CALSCALE:GREGORIAN
METHOD:PUBLISH
X-WR-CALNAME:Winkelcentrum Leyweg
X-ORIGINAL-URL:https://leyweg.nl
X-WR-CALDESC:Evenementen voor Winkelcentrum Leyweg
REFRESH-INTERVAL;VALUE=DURATION:PT1H
X-Robots-Tag:noindex
X-PUBLISHED-TTL:PT1H
BEGIN:VTIMEZONE
TZID:Europe/Amsterdam
BEGIN:DAYLIGHT
TZOFFSETFROM:+0100
TZOFFSETTO:+0200
TZNAME:CEST
DTSTART:20200329T010000
END:DAYLIGHT
BEGIN:STANDARD
TZOFFSETFROM:+0200
TZOFFSETTO:+0100
TZNAME:CET
DTSTART:20201025T010000
END:STANDARD
BEGIN:DAYLIGHT
TZOFFSETFROM:+0100
TZOFFSETTO:+0200
TZNAME:CEST
DTSTART:20210328T010000
END:DAYLIGHT
BEGIN:STANDARD
TZOFFSETFROM:+0200
TZOFFSETTO:+0100
TZNAME:CET
DTSTART:20211031T010000
END:STANDARD
BEGIN:DAYLIGHT
TZOFFSETFROM:+0100
TZOFFSETTO:+0200
TZNAME:CEST
DTSTART:20220327T010000
END:DAYLIGHT
BEGIN:STANDARD
TZOFFSETFROM:+0200
TZOFFSETTO:+0100
TZNAME:CET
DTSTART:20221030T010000
END:STANDARD
BEGIN:DAYLIGHT
TZOFFSETFROM:+0100
TZOFFSETTO:+0200
TZNAME:CEST
DTSTART:20230326T010000
END:DAYLIGHT
BEGIN:STANDARD
TZOFFSETFROM:+0200
TZOFFSETTO:+0100
TZNAME:CET
DTSTART:20231029T010000
END:STANDARD
END:VTIMEZONE
BEGIN:VEVENT
DTSTART;TZID=Europe/Amsterdam:20220528T090000
DTEND;TZID=Europe/Amsterdam:20220529T170000
DTSTAMP:20260425T013727
CREATED:20220516T095022Z
LAST-MODIFIED:20220517T125147Z
UID:51916-1653728400-1653843600@leyweg.nl
SUMMARY:Braderie
DESCRIPTION:Zaterdag 28 en zondag 29 mei is er weer een braderie. Het hele weekend lang kun je langs vele kraampjes snuffelen en op zoek gaan naar extra goede koopjes! Tijdens de braderie is er deze editie helaas geen Kindervrijmarkt. Er zullen zoals altijd natuurlijk wel kinderattracties geplaatst worden tijdens de braderie! Kom jij ook weer gezellig langs?
URL:https://leyweg.nl/events/braderie/
LOCATION:Winkelcentrum Leyweg\, Leyweg 789\, Den Haag\, Nederland
CATEGORIES:Nederlands
ATTACH;FMTTYPE=image/png:https://leyweg.nl/wp-content/uploads/2022/05/Leyweg-Braderie-Facebook-banner-1.png
END:VEVENT
BEGIN:VEVENT
DTSTART;TZID=Europe/Amsterdam:20211215T080000
DTEND;TZID=Europe/Amsterdam:20211222T170000
DTSTAMP:20260425T013727
CREATED:20211207T102404Z
LAST-MODIFIED:20211207T102405Z
UID:51862-1639555200-1640192400@leyweg.nl
SUMMARY:Winter Wonder Dagen
DESCRIPTION:We maken het extra sfeervol tijdens de dagen voor kerst. Er is op drie verschillende dagen van alles te doen!\n\nOp de woensdagen (15 en 22 december) is het feest voor het hele gezin met onze kerst parade\, de winter express mini trein en een heerlijke food tour met warme lekkernijen. Deelnamekaartjes voor de food tour zijn te verkrijgen bij de kerstdames die meelopen in de parade. Voor de food tour geldt vol=vol en op=op. De food tour heeft op iedere woensdag een andere route!\n\nOp zaterdag 18 december helpen we de kerstman een handje met het inpakken van zijn cadeaus. Laat ook jouw aankopen door onze inpakservice geheel gratis omtoveren tot echte geschenken.
URL:https://leyweg.nl/events/winter-wonder-dagen/
LOCATION:Winkelcentrum Leyweg\, Leyweg 789\, Den Haag\, Nederland
CATEGORIES:Nederlands
ATTACH;FMTTYPE=image/png:https://leyweg.nl/wp-content/uploads/2021/12/Leyweg-Facebook-event-banner-Winter-Wonder-Dagen-blauwe-tekst.png
END:VEVENT
BEGIN:VEVENT
DTSTART;VALUE=DATE:20211030
DTEND;VALUE=DATE:20211101
DTSTAMP:20260425T013727
CREATED:20211013T151430Z
LAST-MODIFIED:20211013T151430Z
UID:51764-1635552000-1635724799@leyweg.nl
SUMMARY:Herfst braderie met kindervrijmarkt
DESCRIPTION:Zaterdag 30 en zondag 31 oktober is er weer een braderie*. ???? Het hele weekend lang kun je langs vele kraampjes snuffelen en op zoek gaan naar extra goede koopjes! Tijdens de braderie is er tevens een kindervrijmarkt: het Marktplein wordt hier speciaal voor ingericht. Dus wil je graag slim inkopen en tweedehands speelgoed en kleding op de kop tikken? Kom dan vooral een kijkje nemen! \nReserveren van een kraampje op de kindervrijmarkt ????????????\nLiever verkopen en wat geld verdienen? Dat kan! Winkelcentrum Leyweg stelt een paar kramen gratis beschikbaar voor kinderen die op de kindervrijmarkt hun spulletjes willen verkopen. Ouders kunnen hiervoor een kraam reserveren. Let op! Reserveren kan t/m 25 oktober en op=op.\nReserveer een kraam door een mailtje te sturen naar: leywegwinkelcentrum@gmail.com  \n*Onder voorbehoud van de ontwikkelingen & regelgeving rondom het coronavirus
URL:https://leyweg.nl/events/herfst-braderie-met-kindervrijmarkt/
LOCATION:Winkelcentrum Leyweg\, Leyweg 789\, Den Haag\, Nederland
CATEGORIES:Nederlands
ATTACH;FMTTYPE=image/png:https://leyweg.nl/wp-content/uploads/2021/10/Leyweg-Facebook-event-banner-Herfst-Braderie-11-10-2021.png
END:VEVENT
END:VCALENDAR